BEGIN:VCALENDAR
VERSION:2.0
PRODID:-//New Zealand Stand Up Paddling Inc - ECPv5.2.0//NONSGML v1.0//EN
CALSCALE:GREGORIAN
METHOD:PUBLISH
X-WR-CALNAME:New Zealand Stand Up Paddling Inc
X-ORIGINAL-URL:http://www.nzsup.org
X-WR-CALDESC:Events for New Zealand Stand Up Paddling Inc
BEGIN:VTIMEZONE
TZID:UTC
BEGIN:STANDARD
TZOFFSETFROM:+0000
TZOFFSETTO:+0000
TZNAME:UTC
DTSTART:20210101T000000
END:STANDARD
END:VTIMEZONE
BEGIN:VEVENT
DTSTART;TZID=UTC:20210112T170000
DTEND;TZID=UTC:20210112T200000
DTSTAMP:20210119T042131
CREATED:20201017T021855Z
LAST-MODIFIED:20201017T021855Z
UID:3444-1610470800-1610481600@www.nzsup.org
SUMMARY:Beach Series 2020
DESCRIPTION:The 2020-21 Harcourts Cooper & Co Beach Series season is about to start\, with another 18 event series starting on Tuesday 3rd November 2020. \n​ \nThe Beach Series is an all-ages Beach Run & Walk\, 10K Multi Road Run\, Stand-Up Paddle and Ocean Swim series held on Tuesday evenings at Takapuna Beach. \n​ \nCome along to 1 event\, all 18 events or any number in between. Challenge yourself to at least 12 events and you’re in the running for overall and age category medals at the end of the season! \n​ \nGrab your friends\, family and the kids and join us for a summer of fun\, fitness and healthy competition. \n\n#keepfithavefun \n#beachseries
URL:http://www.nzsup.org/event/beach-series-2020/2021-01-12/
LOCATION:Takapuna Beach\, Takapuna Landing\, Auckland\, 0622
ORGANIZER;CN="Beach%20Series":MAILTO:info@beachseries.co.nz
END:VEVENT
BEGIN:VEVENT
DTSTART;TZID=UTC:20210119T170000
DTEND;TZID=UTC:20210119T200000
DTSTAMP:20210119T042131
CREATED:20201017T021855Z
LAST-MODIFIED:20201017T021855Z
UID:3445-1611075600-1611086400@www.nzsup.org
SUMMARY:Beach Series 2020
DESCRIPTION:The 2020-21 Harcourts Cooper & Co Beach Series season is about to start\, with another 18 event series starting on Tuesday 3rd November 2020. \n​ \nThe Beach Series is an all-ages Beach Run & Walk\, 10K Multi Road Run\, Stand-Up Paddle and Ocean Swim series held on Tuesday evenings at Takapuna Beach. \n​ \nCome along to 1 event\, all 18 events or any number in between. Challenge yourself to at least 12 events and you’re in the running for overall and age category medals at the end of the season! \n​ \nGrab your friends\, family and the kids and join us for a summer of fun\, fitness and healthy competition. \n\n#keepfithavefun \n#beachseries
URL:http://www.nzsup.org/event/beach-series-2020/2021-01-19/
LOCATION:Takapuna Beach\, Takapuna Landing\, Auckland\, 0622
ORGANIZER;CN="Beach%20Series":MAILTO:info@beachseries.co.nz
END:VEVENT
BEGIN:VEVENT
DTSTART;TZID=UTC:20210126T170000
DTEND;TZID=UTC:20210126T200000
DTSTAMP:20210119T042131
CREATED:20201017T021855Z
LAST-MODIFIED:20201017T021855Z
UID:3446-1611680400-1611691200@www.nzsup.org
SUMMARY:Beach Series 2020
DESCRIPTION:The 2020-21 Harcourts Cooper & Co Beach Series season is about to start\, with another 18 event series starting on Tuesday 3rd November 2020. \n​ \nThe Beach Series is an all-ages Beach Run & Walk\, 10K Multi Road Run\, Stand-Up Paddle and Ocean Swim series held on Tuesday evenings at Takapuna Beach. \n​ \nCome along to 1 event\, all 18 events or any number in between. Challenge yourself to at least 12 events and you’re in the running for overall and age category medals at the end of the season! \n​ \nGrab your friends\, family and the kids and join us for a summer of fun\, fitness and healthy competition. \n\n#keepfithavefun \n#beachseries
URL:http://www.nzsup.org/event/beach-series-2020/2021-01-26/
LOCATION:Takapuna Beach\, Takapuna Landing\, Auckland\, 0622
ORGANIZER;CN="Beach%20Series":MAILTO:info@beachseries.co.nz
END:VEVENT
END:VCALENDAR